BEGIN:VCALENDAR
VERSION:2.0
PRODID:-//NAMI Mercer County - ECPv6.15.20//NONSGML v1.0//EN
CALSCALE:GREGORIAN
METHOD:PUBLISH
X-WR-CALNAME:NAMI Mercer County
X-ORIGINAL-URL:https://namimercer.org
X-WR-CALDESC:Events for NAMI Mercer County
REFRESH-INTERVAL;VALUE=DURATION:PT1H
X-Robots-Tag:noindex
X-PUBLISHED-TTL:PT1H
BEGIN:VTIMEZONE
TZID:America/New_York
BEGIN:DAYLIGHT
TZOFFSETFROM:-0500
TZOFFSETTO:-0400
TZNAME:EDT
DTSTART:20250309T070000
END:DAYLIGHT
BEGIN:STANDARD
TZOFFSETFROM:-0400
TZOFFSETTO:-0500
TZNAME:EST
DTSTART:20251102T060000
END:STANDARD
BEGIN:DAYLIGHT
TZOFFSETFROM:-0500
TZOFFSETTO:-0400
TZNAME:EDT
DTSTART:20260308T070000
END:DAYLIGHT
BEGIN:STANDARD
TZOFFSETFROM:-0400
TZOFFSETTO:-0500
TZNAME:EST
DTSTART:20261101T060000
END:STANDARD
BEGIN:DAYLIGHT
TZOFFSETFROM:-0500
TZOFFSETTO:-0400
TZNAME:EDT
DTSTART:20270314T070000
END:DAYLIGHT
BEGIN:STANDARD
TZOFFSETFROM:-0400
TZOFFSETTO:-0500
TZNAME:EST
DTSTART:20271107T060000
END:STANDARD
END:VTIMEZONE
BEGIN:VEVENT
DTSTART;TZID=America/New_York:20260615T171500
DTEND;TZID=America/New_York:20260615T183000
DTSTAMP:20260424T235808
CREATED:20260414T184228Z
LAST-MODIFIED:20260414T184229Z
UID:10001011-1781543700-1781548200@namimercer.org
SUMMARY:IFSS Family Support Group
DESCRIPTION:Making Connections Support Group:\nGeneral Support Group for Caregivers of a loved one with a mental illness.\nHost: Andrea Crea\nGroup meets every Monday each month at 5:15pm via Zoom. \nZoom Meeting Info:\nMeeting ID: 825 5872 0111\, Passcode: 12345\nhttps://us02web.zoom.us/j/82558720111?pwd=N01jazVkN1hCOHRUNFoxMXU1N2UyZz09
URL:https://namimercer.org/event/ifss-family-support-group-2023-08-07-2/2026-06-15/
LOCATION:Virtual via Zoom
END:VEVENT
BEGIN:VEVENT
DTSTART;TZID=America/New_York:20260615T190000
DTEND;TZID=America/New_York:20260615T203000
DTSTAMP:20260424T235808
CREATED:20240812T200737Z
LAST-MODIFIED:20240812T200737Z
UID:10002653-1781550000-1781555400@namimercer.org
SUMMARY:Just Parents
DESCRIPTION:Just Parents is a parent-driven family-focused program to support parents/caregivers who are concerned about their kids’ struggles with anxiety\, depression and/or emotional dysregulation. NAMI Mercer hosts regular monthly meetings of Just Parents\, providing parents/caregivers who are concerned about their child’s mental health and well-being valuable peer connections and the opportunity to share insights and resources through confidential\, informational meetings run by and for parents.
URL:https://namimercer.org/event/just-parents/2026-06-15/
END:VEVENT
BEGIN:VEVENT
DTSTART;TZID=America/New_York:20260616T140000
DTEND;TZID=America/New_York:20260616T150000
DTSTAMP:20260424T235808
CREATED:20220617T163910Z
LAST-MODIFIED:20240205T210130Z
UID:10002288-1781618400-1781622000@namimercer.org
SUMMARY:Empathy Network:  A Depression Support Group
DESCRIPTION:Empathy Network is a support group for individuals living with depression and similar challenges. Group members will have the opportunity to share their experiences and gain support from other participants\, as well as learn new coping skills and strategies to foster wellbeing. Facilitator Laurie Goldman will lead the group in a supportive\, safe\, confidential setting. \nThe group meets every 1st and 3rd Tuesday of the month from 2-3pm. Registration is required to become a group participant; confirmation of attendance at each individual session will be required. You are asked to phone NAMI Mercer at 609.799.8994 by 10:00 am the day of each meeting to confirm attendance. If no one answers\, please leave a message with your first name and state that you will be attending. A minimum of two participants is needed to hold a meeting.\n\n\n\n\n\n\n\n\n\n\nRegister Here!
URL:https://namimercer.org/event/empathy-network-a-depression-support-group-2022-09-20-2023-12-05/2026-06-16/
LOCATION:NAMI Mercer Center\, 1235 Whitehorse Mercerville Rd. Bldg. C\, Suite 303\, Hamilton\, NJ\, 08619\, United States
GEO:40.2096194;-74.6911954
X-APPLE-STRUCTURED-LOCATION;VALUE=URI;X-ADDRESS=NAMI Mercer Center 1235 Whitehorse Mercerville Rd. Bldg. C Suite 303 Hamilton NJ 08619 United States;X-APPLE-RADIUS=500;X-TITLE=1235 Whitehorse Mercerville Rd. Bldg. C\, Suite 303:geo:-74.6911954,40.2096194
END:VEVENT
BEGIN:VEVENT
DTSTART;TZID=America/New_York:20260616T171500
DTEND;TZID=America/New_York:20260616T183000
DTSTAMP:20260424T235808
CREATED:20230801T193255Z
LAST-MODIFIED:20260113T165748Z
UID:10002499-1781630100-1781634600@namimercer.org
SUMMARY:IFSS Family Support Group
DESCRIPTION:Common Thread Psychoeducation Group:\nEvent Description: Psychoeducation Group for Caregivers of a loved one with a mental illness.\nGroup meets every Tuesday at 5:15pm via Zoom and also in-person at the NAMI Mercer Office.\nNAMI Office in MC: 1235 Whitehorse-Mercerville Road\, Bldg. C\, Suite 303\, Hamilton\, NJ \nZoom Meeting Info:\nMeeting ID: 811 1047 2645\, Passcode: 12345\nhttps://us02web.zoom.us/j/81110472645?pwd=VlVKb3JxV2hTZi85bGx1L0ZDcGFEZz09
URL:https://namimercer.org/event/ifss-family-support-group-2/2026-06-16/
END:VEVENT
BEGIN:VEVENT
DTSTART;TZID=America/New_York:20260616T190000
DTEND;TZID=America/New_York:20260616T200000
DTSTAMP:20260424T235808
CREATED:20250811T214349Z
LAST-MODIFIED:20250811T214349Z
UID:10000581-1781636400-1781640000@namimercer.org
SUMMARY:Mending Mindsets: Anxiety Support Group
DESCRIPTION:Support group for individuals living with stress and anxiety. The group meets virtually via Zoom on the first 1st and 3rd Tuesday of every month from 7-8pm.
URL:https://namimercer.org/event/mending-mindsets-anxiety-support-group/2026-06-16/
LOCATION:Virtual via Zoom
END:VEVENT
BEGIN:VEVENT
DTSTART;TZID=America/New_York:20260617T140000
DTEND;TZID=America/New_York:20260617T153000
DTSTAMP:20260424T235808
CREATED:20250811T214349Z
LAST-MODIFIED:20250811T214349Z
UID:10000696-1781704800-1781710200@namimercer.org
SUMMARY:NAMI Connection Support Group
DESCRIPTION:Recovery support group for adults living with mental illness. The group can meet virtually via Ring Central or in person at the NAMI Mercer Center on the 1st and 3rd Wednesdays at 2pm. The group will also meet only virtually on the 2nd and 4th Thursday at 7pm.
URL:https://namimercer.org/event/nami-connection-support-group/2026-06-17/
LOCATION:Virtual via Ring Central
END:VEVENT
BEGIN:VEVENT
DTSTART;TZID=America/New_York:20260617T171500
DTEND;TZID=America/New_York:20260617T183000
DTSTAMP:20260424T235808
CREATED:20260113T170123Z
LAST-MODIFIED:20260113T170123Z
UID:10003517-1781716500-1781721000@namimercer.org
SUMMARY:Families Coping with Personality Disorder
DESCRIPTION:Event Description: Support Group for Caregivers that have a loved one with a personality disorder diagnosis.\nHost: Andrea Crea\nGroup meets on the 3rd Wednesday each month at 5:15pm on Zoom. \nZoom Meeting Info:\nMeeting ID: 825 4996 8071\, Passcode: 12345\nhttps://us02web.zoom.us/j/82549968071?pwd=dGDF230hAVRHSUZT8HOwIKN8fcECKF.1
URL:https://namimercer.org/event/families-coping-with-personality-disorder-2/2026-06-17/
END:VEVENT
END:VCALENDAR