BEGIN:VCALENDAR
VERSION:2.0
PRODID:-//NAMI Mercer County - ECPv6.15.20//NONSGML v1.0//EN
CALSCALE:GREGORIAN
METHOD:PUBLISH
X-WR-CALNAME:NAMI Mercer County
X-ORIGINAL-URL:https://namimercer.org
X-WR-CALDESC:Events for NAMI Mercer County
REFRESH-INTERVAL;VALUE=DURATION:PT1H
X-Robots-Tag:noindex
X-PUBLISHED-TTL:PT1H
BEGIN:VTIMEZONE
TZID:America/New_York
BEGIN:DAYLIGHT
TZOFFSETFROM:-0500
TZOFFSETTO:-0400
TZNAME:EDT
DTSTART:20170312T070000
END:DAYLIGHT
BEGIN:STANDARD
TZOFFSETFROM:-0400
TZOFFSETTO:-0500
TZNAME:EST
DTSTART:20171105T060000
END:STANDARD
BEGIN:DAYLIGHT
TZOFFSETFROM:-0500
TZOFFSETTO:-0400
TZNAME:EDT
DTSTART:20180311T070000
END:DAYLIGHT
BEGIN:STANDARD
TZOFFSETFROM:-0400
TZOFFSETTO:-0500
TZNAME:EST
DTSTART:20181104T060000
END:STANDARD
BEGIN:DAYLIGHT
TZOFFSETFROM:-0500
TZOFFSETTO:-0400
TZNAME:EDT
DTSTART:20190310T070000
END:DAYLIGHT
BEGIN:STANDARD
TZOFFSETFROM:-0400
TZOFFSETTO:-0500
TZNAME:EST
DTSTART:20191103T060000
END:STANDARD
END:VTIMEZONE
BEGIN:VEVENT
DTSTART;TZID=America/New_York:20180712T150000
DTEND;TZID=America/New_York:20180712T160000
DTSTAMP:20260424T223046
CREATED:20180712T203400Z
LAST-MODIFIED:20190329T201839Z
UID:10000032-1531407600-1531411200@namimercer.org
SUMMARY:Online WRAP
DESCRIPTION:NAMI Mercer hosts an online WRAP® support group from 7:00 – 8:00 pm every Thursday evening. The group is open to anyone who has an interest in learning more about WRAP®. \nTo access the support group as a video conference\, click on: https://meetings.ringcentral.com/j/1492454791 \nTo call into the meeting: 605.562.3185 and enter the meeting ID 149 245 4791 when prompted.
URL:https://namimercer.org/event/online-wrap/
END:VEVENT
BEGIN:VEVENT
DTSTART;TZID=America/New_York:20180712T150000
DTEND;TZID=America/New_York:20180712T180000
DTSTAMP:20260424T223046
CREATED:20180710T181017Z
LAST-MODIFIED:20180710T181017Z
UID:10000014-1531407600-1531418400@namimercer.org
SUMMARY:Trenton Thunder Game
DESCRIPTION:
URL:https://namimercer.org/event/trenton-thunder-game/
LOCATION:Arm & Hammer Park\, 1 Thunder Rd\, Trenton\, NJ\, 08611\, United States
CATEGORIES:Raising Awareness
END:VEVENT
BEGIN:VEVENT
DTSTART;TZID=America/New_York:20180723T143000
DTEND;TZID=America/New_York:20180723T160000
DTSTAMP:20260424T223046
CREATED:20180712T231740Z
LAST-MODIFIED:20180712T231740Z
UID:10000072-1532356200-1532361600@namimercer.org
SUMMARY:Good Vibes: Music on Your Mind
DESCRIPTION:Musicians Colleen Ryan and Jim Gaven will lead the group in a round of fun\, positive\, and uplifting music activities. Silly vocal warmups to break the ice will flow into a handful of sing-a-long songs\, and finish off with a series of percussion related activities to get everyone in rhythm with one another before parting ways. \n  \n 
URL:https://namimercer.org/event/good-vibes-music-on-your-mind/
LOCATION:NAMI Mercer Center\, 1235 Whitehorse Mercerville Rd. Bldg. C\, Suite 303\, Hamilton\, NJ\, 08619\, United States
ORGANIZER;CN="NAMI Mercer":MAILTO:home@namimercer.org
GEO:40.2096194;-74.6911954
X-APPLE-STRUCTURED-LOCATION;VALUE=URI;X-ADDRESS=NAMI Mercer Center 1235 Whitehorse Mercerville Rd. Bldg. C Suite 303 Hamilton NJ 08619 United States;X-APPLE-RADIUS=500;X-TITLE=1235 Whitehorse Mercerville Rd. Bldg. C\, Suite 303:geo:-74.6911954,40.2096194
END:VEVENT
BEGIN:VEVENT
DTSTART;TZID=America/New_York:20180801T110000
DTEND;TZID=America/New_York:20180801T120000
DTSTAMP:20260424T223046
CREATED:20180712T225400Z
LAST-MODIFIED:20180712T225400Z
UID:10000066-1533121200-1533124800@namimercer.org
SUMMARY:Just Friends Meet and Greet
DESCRIPTION:NAMI Mercer’s peer-led social support group for adults\, Just Friends\, offers participants opportunities to engage in fun activities that reduce social isolation and enhance interpersonal skills. This furthers people’s ability to contribute to and enjoy a sense of community\, promoting recovery and well-being.
URL:https://namimercer.org/event/just-friends-meet-and-greet/
LOCATION:NAMI Mercer Center\, 1235 Whitehorse Mercerville Rd. Bldg. C\, Suite 303\, Hamilton\, NJ\, 08619\, United States
ORGANIZER;CN="NAMI Mercer":MAILTO:home@namimercer.org
GEO:40.2096194;-74.6911954
X-APPLE-STRUCTURED-LOCATION;VALUE=URI;X-ADDRESS=NAMI Mercer Center 1235 Whitehorse Mercerville Rd. Bldg. C Suite 303 Hamilton NJ 08619 United States;X-APPLE-RADIUS=500;X-TITLE=1235 Whitehorse Mercerville Rd. Bldg. C\, Suite 303:geo:-74.6911954,40.2096194
END:VEVENT
BEGIN:VEVENT
DTSTART;TZID=America/New_York:20180801T130000
DTEND;TZID=America/New_York:20180801T140000
DTSTAMP:20260424T223046
CREATED:20180710T235129Z
LAST-MODIFIED:20180710T235129Z
UID:10000027-1533128400-1533132000@namimercer.org
SUMMARY:Volunteer Orientation
DESCRIPTION:Contact NAMI Mercer office to confirm attendance.
URL:https://namimercer.org/event/volunteer-orientation/
LOCATION:NAMI Mercer Center\, 1235 Whitehorse Mercerville Rd. Bldg. C\, Suite 303\, Hamilton\, NJ\, 08619\, United States
ORGANIZER;CN="NAMI Mercer":MAILTO:home@namimercer.org
GEO:40.2096194;-74.6911954
X-APPLE-STRUCTURED-LOCATION;VALUE=URI;X-ADDRESS=NAMI Mercer Center 1235 Whitehorse Mercerville Rd. Bldg. C Suite 303 Hamilton NJ 08619 United States;X-APPLE-RADIUS=500;X-TITLE=1235 Whitehorse Mercerville Rd. Bldg. C\, Suite 303:geo:-74.6911954,40.2096194
END:VEVENT
BEGIN:VEVENT
DTSTART;TZID=America/New_York:20180806T150000
DTEND;TZID=America/New_York:20180806T163000
DTSTAMP:20260424T223046
CREATED:20180710T214811Z
LAST-MODIFIED:20180710T214811Z
UID:10000021-1533567600-1533573000@namimercer.org
SUMMARY:Ask the Social Worker Teleconference
DESCRIPTION:Call 605-562-3185. Enter meeting ID 149 245 4791 when prompted.
URL:https://namimercer.org/event/ask-the-social-worker-teleconference/
ORGANIZER;CN="NAMI Mercer":MAILTO:home@namimercer.org
END:VEVENT
BEGIN:VEVENT
DTSTART;TZID=America/New_York:20180813T150000
DTEND;TZID=America/New_York:20180813T170000
DTSTAMP:20260424T223046
CREATED:20180712T232359Z
LAST-MODIFIED:20180712T232359Z
UID:10000073-1534172400-1534179600@namimercer.org
SUMMARY:Dancing on Paper ~ Painting on Scarves
DESCRIPTION:This workshop is designed to explore emotions and engage your creativity. Put pen to paper to express how music makes you feel. Then\, create a vibrantly-colored silk scarf using stamping\, folding and tying techniques.
URL:https://namimercer.org/event/dancing-on-paper-painting-on-scarves/
LOCATION:NAMI Mercer Center\, 1235 Whitehorse Mercerville Rd. Bldg. C\, Suite 303\, Hamilton\, NJ\, 08619\, United States
ORGANIZER;CN="NAMI Mercer":MAILTO:home@namimercer.org
GEO:40.2096194;-74.6911954
X-APPLE-STRUCTURED-LOCATION;VALUE=URI;X-ADDRESS=NAMI Mercer Center 1235 Whitehorse Mercerville Rd. Bldg. C Suite 303 Hamilton NJ 08619 United States;X-APPLE-RADIUS=500;X-TITLE=1235 Whitehorse Mercerville Rd. Bldg. C\, Suite 303:geo:-74.6911954,40.2096194
END:VEVENT
BEGIN:VEVENT
DTSTART;TZID=America/New_York:20180825T100000
DTEND;TZID=America/New_York:20180825T130000
DTSTAMP:20260424T223046
CREATED:20180710T204249Z
LAST-MODIFIED:20180710T204249Z
UID:10000017-1535191200-1535202000@namimercer.org
SUMMARY:Annual Membership Picnic & Pool Party
DESCRIPTION:Members gathering. Pool\, trampoline\, and hot tub. Hotdogs\, hamburgers\, and soft drinks provided. Bring a side or dessert to share. RSVP by August 17th\, 2018.
URL:https://namimercer.org/event/annual-membership-picnic-pool-party/
LOCATION:The home of John & Dottie Lasley\, 212 Cherry Valley Rd.\, Princeton\, NJ\, 08540\, United States
ORGANIZER;CN="NAMI Mercer":MAILTO:home@namimercer.org
GEO:40.3834985;-74.6739154
X-APPLE-STRUCTURED-LOCATION;VALUE=URI;X-ADDRESS=The home of John & Dottie Lasley 212 Cherry Valley Rd. Princeton NJ 08540 United States;X-APPLE-RADIUS=500;X-TITLE=212 Cherry Valley Rd.:geo:-74.6739154,40.3834985
END:VEVENT
BEGIN:VEVENT
DTSTART;TZID=America/New_York:20180827T150000
DTEND;TZID=America/New_York:20180827T170000
DTSTAMP:20260424T223046
CREATED:20180712T232500Z
LAST-MODIFIED:20180712T232500Z
UID:10000074-1535382000-1535389200@namimercer.org
SUMMARY:The FUNdamentals of Improv
DESCRIPTION:FUNdamentals of Improv will cover the basic skills and techniques of comedy improvisation. How do you quell your anxiety and know what to do when there’s no script??? This class will put your mind at ease!
URL:https://namimercer.org/event/the-fundamentals-of-improv/
LOCATION:NAMI Mercer Center\, 1235 Whitehorse Mercerville Rd. Bldg. C\, Suite 303\, Hamilton\, NJ\, 08619\, United States
ORGANIZER;CN="NAMI Mercer":MAILTO:home@namimercer.org
GEO:40.2096194;-74.6911954
X-APPLE-STRUCTURED-LOCATION;VALUE=URI;X-ADDRESS=NAMI Mercer Center 1235 Whitehorse Mercerville Rd. Bldg. C Suite 303 Hamilton NJ 08619 United States;X-APPLE-RADIUS=500;X-TITLE=1235 Whitehorse Mercerville Rd. Bldg. C\, Suite 303:geo:-74.6911954,40.2096194
END:VEVENT
BEGIN:VEVENT
DTSTART;TZID=America/New_York:20180903T150000
DTEND;TZID=America/New_York:20180903T163000
DTSTAMP:20260424T223046
CREATED:20180710T220729Z
LAST-MODIFIED:20180710T220729Z
UID:10000023-1535986800-1535992200@namimercer.org
SUMMARY:Ask the Social Worker Teleconference
DESCRIPTION:Call 605-562-3185. Enter meeting ID 149 245 4791 when prompted.
URL:https://namimercer.org/event/ask-the-social-worker-teleconference-2/
ORGANIZER;CN="NAMI Mercer":MAILTO:home@namimercer.org
END:VEVENT
BEGIN:VEVENT
DTSTART;TZID=America/New_York:20180905T110000
DTEND;TZID=America/New_York:20180905T120000
DTSTAMP:20260424T223046
CREATED:20180712T225511Z
LAST-MODIFIED:20180712T225511Z
UID:10000067-1536145200-1536148800@namimercer.org
SUMMARY:Just Friends Meet & Greet
DESCRIPTION:NAMI Mercer’s peer-led social support group for adults\, Just Friends\, offers participants opportunities to engage in fun activities that reduce social isolation and enhance interpersonal skills. This furthers people’s ability to contribute to and enjoy a sense of community\, promoting recovery and well-being.
URL:https://namimercer.org/event/just-friends-meet-greet/
LOCATION:NAMI Mercer Center\, 1235 Whitehorse Mercerville Rd. Bldg. C\, Suite 303\, Hamilton\, NJ\, 08619\, United States
ORGANIZER;CN="NAMI Mercer":MAILTO:home@namimercer.org
GEO:40.2096194;-74.6911954
X-APPLE-STRUCTURED-LOCATION;VALUE=URI;X-ADDRESS=NAMI Mercer Center 1235 Whitehorse Mercerville Rd. Bldg. C Suite 303 Hamilton NJ 08619 United States;X-APPLE-RADIUS=500;X-TITLE=1235 Whitehorse Mercerville Rd. Bldg. C\, Suite 303:geo:-74.6911954,40.2096194
END:VEVENT
BEGIN:VEVENT
DTSTART;TZID=America/New_York:20180905T130000
DTEND;TZID=America/New_York:20180905T140000
DTSTAMP:20260424T223046
CREATED:20180710T235455Z
LAST-MODIFIED:20180710T235455Z
UID:10000028-1536152400-1536156000@namimercer.org
SUMMARY:Volunteer Orientation
DESCRIPTION:Contact NAMI Mercer office to confirm attendance.
URL:https://namimercer.org/event/volunteer-orientation-2/
LOCATION:NAMI Mercer Center\, 1235 Whitehorse Mercerville Rd. Bldg. C\, Suite 303\, Hamilton\, NJ\, 08619\, United States
ORGANIZER;CN="NAMI Mercer":MAILTO:home@namimercer.org
GEO:40.2096194;-74.6911954
X-APPLE-STRUCTURED-LOCATION;VALUE=URI;X-ADDRESS=NAMI Mercer Center 1235 Whitehorse Mercerville Rd. Bldg. C Suite 303 Hamilton NJ 08619 United States;X-APPLE-RADIUS=500;X-TITLE=1235 Whitehorse Mercerville Rd. Bldg. C\, Suite 303:geo:-74.6911954,40.2096194
END:VEVENT
BEGIN:VEVENT
DTSTART;TZID=America/New_York:20180920T143000
DTEND;TZID=America/New_York:20180920T170000
DTSTAMP:20260424T223046
CREATED:20180712T222111Z
LAST-MODIFIED:20180713T231731Z
UID:10000033-1537453800-1537462800@namimercer.org
SUMMARY:Family to Family
DESCRIPTION:Family-to-Family is 12-session educational program offered at no charge for family members and friends of adults (18+) living with mental illness. You will receive up-to-date information about serious mental health conditions and the best treatment options. You will learn coping strategies and how to become an effective advocate\, while maintaining your own well-being. Family-to-Family teachers create an environment of understanding and support based on their own lived experience. Family-to-Family has been designated as an evidence-based program by SAMHSA. \n***Registration Required*** \nClick Below: \nFamily-to-Family
URL:https://namimercer.org/event/family-to-family/2018-09-20/
END:VEVENT
BEGIN:VEVENT
DTSTART;TZID=America/New_York:20180926T140000
DTEND;TZID=America/New_York:20180926T163000
DTSTAMP:20260424T223046
CREATED:20180713T215013Z
LAST-MODIFIED:20220912T165959Z
UID:10000076-1537970400-1537979400@namimercer.org
SUMMARY:Wellness Recovery Action Plan (WRAP®)
DESCRIPTION:WRAP® is an evidence-based practice that teaches individuals to focus on positive supports while also helping them to recognize the triggers and symptoms of illness. WRAP® is a series of eight workshops during which the individual participant develops his/her own WRAP addressing positive supports\, relapse prevention\, and crisis planning. The workshops are led by a certified WRAP® peer facilitator. \n***Registration Required*** \nClick below: \nhttps://namimercer.org/learn-more/wellness-recovery-action-plan-wrap/ \n 
URL:https://namimercer.org/event/wrap/2018-09-26/
LOCATION:NAMI Mercer Center\, 1235 Whitehorse Mercerville Rd. Bldg. C\, Suite 303\, Hamilton\, NJ\, 08619\, United States
ORGANIZER;CN="NAMI Mercer":MAILTO:home@namimercer.org
GEO:40.2096194;-74.6911954
X-APPLE-STRUCTURED-LOCATION;VALUE=URI;X-ADDRESS=NAMI Mercer Center 1235 Whitehorse Mercerville Rd. Bldg. C Suite 303 Hamilton NJ 08619 United States;X-APPLE-RADIUS=500;X-TITLE=1235 Whitehorse Mercerville Rd. Bldg. C\, Suite 303:geo:-74.6911954,40.2096194
END:VEVENT
BEGIN:VEVENT
DTSTART;TZID=America/New_York:20180927T143000
DTEND;TZID=America/New_York:20180927T170000
DTSTAMP:20260424T223046
CREATED:20180712T222111Z
LAST-MODIFIED:20180713T231731Z
UID:10000034-1538058600-1538067600@namimercer.org
SUMMARY:Family to Family
DESCRIPTION:Family-to-Family is 12-session educational program offered at no charge for family members and friends of adults (18+) living with mental illness. You will receive up-to-date information about serious mental health conditions and the best treatment options. You will learn coping strategies and how to become an effective advocate\, while maintaining your own well-being. Family-to-Family teachers create an environment of understanding and support based on their own lived experience. Family-to-Family has been designated as an evidence-based program by SAMHSA. \n***Registration Required*** \nClick Below: \nFamily-to-Family
URL:https://namimercer.org/event/family-to-family/2018-09-27/
END:VEVENT
BEGIN:VEVENT
DTSTART;TZID=America/New_York:20181001T150000
DTEND;TZID=America/New_York:20181001T163000
DTSTAMP:20260424T223046
CREATED:20180710T220942Z
LAST-MODIFIED:20180710T220942Z
UID:10000024-1538406000-1538411400@namimercer.org
SUMMARY:Ask the Social Worker Teleconference
DESCRIPTION:Call 605-562-3185. Enter meeting ID 149 245 4791 when prompted.
URL:https://namimercer.org/event/ask-the-social-worker-teleconference-3/
ORGANIZER;CN="NAMI Mercer":MAILTO:home@namimercer.org
END:VEVENT
BEGIN:VEVENT
DTSTART;TZID=America/New_York:20181003T110000
DTEND;TZID=America/New_York:20181003T120000
DTSTAMP:20260424T223046
CREATED:20180712T225555Z
LAST-MODIFIED:20180712T225555Z
UID:10000068-1538564400-1538568000@namimercer.org
SUMMARY:Just Friends Meet & Greet
DESCRIPTION:NAMI Mercer’s peer-led social support group for adults\, Just Friends\, offers participants opportunities to engage in fun activities that reduce social isolation and enhance interpersonal skills. This furthers people’s ability to contribute to and enjoy a sense of community\, promoting recovery and well-being.
URL:https://namimercer.org/event/just-friends-meet-greet-2/
LOCATION:NAMI Mercer Center\, 1235 Whitehorse Mercerville Rd. Bldg. C\, Suite 303\, Hamilton\, NJ\, 08619\, United States
ORGANIZER;CN="NAMI Mercer":MAILTO:home@namimercer.org
GEO:40.2096194;-74.6911954
X-APPLE-STRUCTURED-LOCATION;VALUE=URI;X-ADDRESS=NAMI Mercer Center 1235 Whitehorse Mercerville Rd. Bldg. C Suite 303 Hamilton NJ 08619 United States;X-APPLE-RADIUS=500;X-TITLE=1235 Whitehorse Mercerville Rd. Bldg. C\, Suite 303:geo:-74.6911954,40.2096194
END:VEVENT
BEGIN:VEVENT
DTSTART;TZID=America/New_York:20181003T130000
DTEND;TZID=America/New_York:20181003T140000
DTSTAMP:20260424T223046
CREATED:20180710T235750Z
LAST-MODIFIED:20180710T235750Z
UID:10000029-1538571600-1538575200@namimercer.org
SUMMARY:Volunteer Orientation
DESCRIPTION:Contact NAMI Mercer office to confirm attendance.
URL:https://namimercer.org/event/volunteer-orientation-3/
LOCATION:NAMI Mercer Center\, 1235 Whitehorse Mercerville Rd. Bldg. C\, Suite 303\, Hamilton\, NJ\, 08619\, United States
ORGANIZER;CN="NAMI Mercer":MAILTO:home@namimercer.org
GEO:40.2096194;-74.6911954
X-APPLE-STRUCTURED-LOCATION;VALUE=URI;X-ADDRESS=NAMI Mercer Center 1235 Whitehorse Mercerville Rd. Bldg. C Suite 303 Hamilton NJ 08619 United States;X-APPLE-RADIUS=500;X-TITLE=1235 Whitehorse Mercerville Rd. Bldg. C\, Suite 303:geo:-74.6911954,40.2096194
END:VEVENT
BEGIN:VEVENT
DTSTART;TZID=America/New_York:20181003T140000
DTEND;TZID=America/New_York:20181003T163000
DTSTAMP:20260424T223046
CREATED:20180713T215013Z
LAST-MODIFIED:20220912T165959Z
UID:10000077-1538575200-1538584200@namimercer.org
SUMMARY:Wellness Recovery Action Plan (WRAP®)
DESCRIPTION:WRAP® is an evidence-based practice that teaches individuals to focus on positive supports while also helping them to recognize the triggers and symptoms of illness. WRAP® is a series of eight workshops during which the individual participant develops his/her own WRAP addressing positive supports\, relapse prevention\, and crisis planning. The workshops are led by a certified WRAP® peer facilitator. \n***Registration Required*** \nClick below: \nhttps://namimercer.org/learn-more/wellness-recovery-action-plan-wrap/ \n 
URL:https://namimercer.org/event/wrap/2018-10-03/
LOCATION:NAMI Mercer Center\, 1235 Whitehorse Mercerville Rd. Bldg. C\, Suite 303\, Hamilton\, NJ\, 08619\, United States
ORGANIZER;CN="NAMI Mercer":MAILTO:home@namimercer.org
GEO:40.2096194;-74.6911954
X-APPLE-STRUCTURED-LOCATION;VALUE=URI;X-ADDRESS=NAMI Mercer Center 1235 Whitehorse Mercerville Rd. Bldg. C Suite 303 Hamilton NJ 08619 United States;X-APPLE-RADIUS=500;X-TITLE=1235 Whitehorse Mercerville Rd. Bldg. C\, Suite 303:geo:-74.6911954,40.2096194
END:VEVENT
BEGIN:VEVENT
DTSTART;TZID=America/New_York:20181004T143000
DTEND;TZID=America/New_York:20181004T170000
DTSTAMP:20260424T223046
CREATED:20180712T222111Z
LAST-MODIFIED:20180713T231731Z
UID:10000035-1538663400-1538672400@namimercer.org
SUMMARY:Family to Family
DESCRIPTION:Family-to-Family is 12-session educational program offered at no charge for family members and friends of adults (18+) living with mental illness. You will receive up-to-date information about serious mental health conditions and the best treatment options. You will learn coping strategies and how to become an effective advocate\, while maintaining your own well-being. Family-to-Family teachers create an environment of understanding and support based on their own lived experience. Family-to-Family has been designated as an evidence-based program by SAMHSA. \n***Registration Required*** \nClick Below: \nFamily-to-Family
URL:https://namimercer.org/event/family-to-family/2018-10-04/
END:VEVENT
BEGIN:VEVENT
DTSTART;TZID=America/New_York:20181006T043000
DTEND;TZID=America/New_York:20181006T113000
DTSTAMP:20260424T223046
CREATED:20180712T232839Z
LAST-MODIFIED:20180712T232839Z
UID:10000075-1538800200-1538825400@namimercer.org
SUMMARY:Harvest of Hope Wellness Conference
DESCRIPTION:Harvest of Hope is a full-day wellness conference for individuals\, families\, and the general public. NAMI Mercer first hosted this event in 2007 as a gift to the community in commemoration of our organization’s 25th anniversary. Since then\, we have held the conference every year in conjunction with National Mental Illness Awareness Week during the first full week of October.\nHarvest of Hope\, offers an inspirational keynote presentation\, ground-breaking educational workshops\, and memorable opportunities for social interaction. \nKeynote Speaker: Dr. Xavier Amador
URL:https://namimercer.org/event/harvest-of-hope-wellness-conference/
LOCATION:The Presbyterian Church of Lawrenceville\, 2688 Main St. (Rt 206)\, Lawrenceville\, NJ\, 08648\, United States
ORGANIZER;CN="NAMI Mercer":MAILTO:home@namimercer.org
GEO:40.2979864;-74.7285402
X-APPLE-STRUCTURED-LOCATION;VALUE=URI;X-ADDRESS=The Presbyterian Church of Lawrenceville 2688 Main St. (Rt 206) Lawrenceville NJ 08648 United States;X-APPLE-RADIUS=500;X-TITLE=2688 Main St. (Rt 206):geo:-74.7285402,40.2979864
END:VEVENT
BEGIN:VEVENT
DTSTART;TZID=America/New_York:20181011T143000
DTEND;TZID=America/New_York:20181011T170000
DTSTAMP:20260424T223046
CREATED:20180712T222111Z
LAST-MODIFIED:20180713T231731Z
UID:10000036-1539268200-1539277200@namimercer.org
SUMMARY:Family to Family
DESCRIPTION:Family-to-Family is 12-session educational program offered at no charge for family members and friends of adults (18+) living with mental illness. You will receive up-to-date information about serious mental health conditions and the best treatment options. You will learn coping strategies and how to become an effective advocate\, while maintaining your own well-being. Family-to-Family teachers create an environment of understanding and support based on their own lived experience. Family-to-Family has been designated as an evidence-based program by SAMHSA. \n***Registration Required*** \nClick Below: \nFamily-to-Family
URL:https://namimercer.org/event/family-to-family/2018-10-11/
END:VEVENT
BEGIN:VEVENT
DTSTART;TZID=America/New_York:20181015T133000
DTEND;TZID=America/New_York:20181015T150000
DTSTAMP:20260424T223046
CREATED:20181017T013939Z
LAST-MODIFIED:20181017T013939Z
UID:10000085-1539610200-1539615600@namimercer.org
SUMMARY:Finance Committee Meeting
DESCRIPTION:
URL:https://namimercer.org/event/finance-committee-meeting/
LOCATION:NAMI Mercer Center\, 1235 Whitehorse Mercerville Rd. Bldg. C\, Suite 303\, Hamilton\, NJ\, 08619\, United States
ORGANIZER;CN="NAMI Mercer":MAILTO:home@namimercer.org
GEO:40.2096194;-74.6911954
X-APPLE-STRUCTURED-LOCATION;VALUE=URI;X-ADDRESS=NAMI Mercer Center 1235 Whitehorse Mercerville Rd. Bldg. C Suite 303 Hamilton NJ 08619 United States;X-APPLE-RADIUS=500;X-TITLE=1235 Whitehorse Mercerville Rd. Bldg. C\, Suite 303:geo:-74.6911954,40.2096194
END:VEVENT
BEGIN:VEVENT
DTSTART;TZID=America/New_York:20181016T140000
DTEND;TZID=America/New_York:20181016T153000
DTSTAMP:20260424T223046
CREATED:20181017T014034Z
LAST-MODIFIED:20181017T014034Z
UID:10000087-1539698400-1539703800@namimercer.org
SUMMARY:Public Awareness Committee Meeting
DESCRIPTION:
URL:https://namimercer.org/event/public-awareness-committee-meeting/
ORGANIZER;CN="NAMI Mercer":MAILTO:home@namimercer.org
END:VEVENT
BEGIN:VEVENT
DTSTART;TZID=America/New_York:20181017T140000
DTEND;TZID=America/New_York:20181017T163000
DTSTAMP:20260424T223046
CREATED:20180713T215013Z
LAST-MODIFIED:20220912T165959Z
UID:10000078-1539784800-1539793800@namimercer.org
SUMMARY:Wellness Recovery Action Plan (WRAP®)
DESCRIPTION:WRAP® is an evidence-based practice that teaches individuals to focus on positive supports while also helping them to recognize the triggers and symptoms of illness. WRAP® is a series of eight workshops during which the individual participant develops his/her own WRAP addressing positive supports\, relapse prevention\, and crisis planning. The workshops are led by a certified WRAP® peer facilitator. \n***Registration Required*** \nClick below: \nhttps://namimercer.org/learn-more/wellness-recovery-action-plan-wrap/ \n 
URL:https://namimercer.org/event/wrap/2018-10-17/
LOCATION:NAMI Mercer Center\, 1235 Whitehorse Mercerville Rd. Bldg. C\, Suite 303\, Hamilton\, NJ\, 08619\, United States
ORGANIZER;CN="NAMI Mercer":MAILTO:home@namimercer.org
GEO:40.2096194;-74.6911954
X-APPLE-STRUCTURED-LOCATION;VALUE=URI;X-ADDRESS=NAMI Mercer Center 1235 Whitehorse Mercerville Rd. Bldg. C Suite 303 Hamilton NJ 08619 United States;X-APPLE-RADIUS=500;X-TITLE=1235 Whitehorse Mercerville Rd. Bldg. C\, Suite 303:geo:-74.6911954,40.2096194
END:VEVENT
BEGIN:VEVENT
DTSTART;TZID=America/New_York:20181018T143000
DTEND;TZID=America/New_York:20181018T170000
DTSTAMP:20260424T223046
CREATED:20180712T222111Z
LAST-MODIFIED:20180713T231731Z
UID:10000037-1539873000-1539882000@namimercer.org
SUMMARY:Family to Family
DESCRIPTION:Family-to-Family is 12-session educational program offered at no charge for family members and friends of adults (18+) living with mental illness. You will receive up-to-date information about serious mental health conditions and the best treatment options. You will learn coping strategies and how to become an effective advocate\, while maintaining your own well-being. Family-to-Family teachers create an environment of understanding and support based on their own lived experience. Family-to-Family has been designated as an evidence-based program by SAMHSA. \n***Registration Required*** \nClick Below: \nFamily-to-Family
URL:https://namimercer.org/event/family-to-family/2018-10-18/
END:VEVENT
BEGIN:VEVENT
DTSTART;TZID=America/New_York:20181022T143000
DTEND;TZID=America/New_York:20181022T160000
DTSTAMP:20260424T223046
CREATED:20181017T014129Z
LAST-MODIFIED:20181017T014129Z
UID:10000089-1540218600-1540224000@namimercer.org
SUMMARY:NAMI Mercer Board Meeting
DESCRIPTION:
URL:https://namimercer.org/event/nami-mercer-board-meeting/
LOCATION:NAMI Mercer Center\, 1235 Whitehorse Mercerville Rd. Bldg. C\, Suite 303\, Hamilton\, NJ\, 08619\, United States
ORGANIZER;CN="NAMI Mercer":MAILTO:home@namimercer.org
GEO:40.2096194;-74.6911954
X-APPLE-STRUCTURED-LOCATION;VALUE=URI;X-ADDRESS=NAMI Mercer Center 1235 Whitehorse Mercerville Rd. Bldg. C Suite 303 Hamilton NJ 08619 United States;X-APPLE-RADIUS=500;X-TITLE=1235 Whitehorse Mercerville Rd. Bldg. C\, Suite 303:geo:-74.6911954,40.2096194
END:VEVENT
BEGIN:VEVENT
DTSTART;TZID=America/New_York:20181023T150000
DTEND;TZID=America/New_York:20181023T163000
DTSTAMP:20260424T223046
CREATED:20181016T235920Z
LAST-MODIFIED:20181016T235920Z
UID:10000084-1540306800-1540312200@namimercer.org
SUMMARY:Understanding Youth Mental Health
DESCRIPTION:
URL:https://namimercer.org/event/understanding-youth-mental-health/
LOCATION:Notre Dame High School\, 601 Lawrence Road\, Lawrenceville\, NJ\, 08648\, United States
ORGANIZER;CN="NAMI Mercer":MAILTO:home@namimercer.org
END:VEVENT
BEGIN:VEVENT
DTSTART;TZID=America/New_York:20181024T140000
DTEND;TZID=America/New_York:20181024T163000
DTSTAMP:20260424T223046
CREATED:20180713T215013Z
LAST-MODIFIED:20220912T165959Z
UID:10000079-1540389600-1540398600@namimercer.org
SUMMARY:Wellness Recovery Action Plan (WRAP®)
DESCRIPTION:WRAP® is an evidence-based practice that teaches individuals to focus on positive supports while also helping them to recognize the triggers and symptoms of illness. WRAP® is a series of eight workshops during which the individual participant develops his/her own WRAP addressing positive supports\, relapse prevention\, and crisis planning. The workshops are led by a certified WRAP® peer facilitator. \n***Registration Required*** \nClick below: \nhttps://namimercer.org/learn-more/wellness-recovery-action-plan-wrap/ \n 
URL:https://namimercer.org/event/wrap/2018-10-24/
LOCATION:NAMI Mercer Center\, 1235 Whitehorse Mercerville Rd. Bldg. C\, Suite 303\, Hamilton\, NJ\, 08619\, United States
ORGANIZER;CN="NAMI Mercer":MAILTO:home@namimercer.org
GEO:40.2096194;-74.6911954
X-APPLE-STRUCTURED-LOCATION;VALUE=URI;X-ADDRESS=NAMI Mercer Center 1235 Whitehorse Mercerville Rd. Bldg. C Suite 303 Hamilton NJ 08619 United States;X-APPLE-RADIUS=500;X-TITLE=1235 Whitehorse Mercerville Rd. Bldg. C\, Suite 303:geo:-74.6911954,40.2096194
END:VEVENT
BEGIN:VEVENT
DTSTART;TZID=America/New_York:20181025T143000
DTEND;TZID=America/New_York:20181025T170000
DTSTAMP:20260424T223046
CREATED:20180712T222111Z
LAST-MODIFIED:20180713T231731Z
UID:10000038-1540477800-1540486800@namimercer.org
SUMMARY:Family to Family
DESCRIPTION:Family-to-Family is 12-session educational program offered at no charge for family members and friends of adults (18+) living with mental illness. You will receive up-to-date information about serious mental health conditions and the best treatment options. You will learn coping strategies and how to become an effective advocate\, while maintaining your own well-being. Family-to-Family teachers create an environment of understanding and support based on their own lived experience. Family-to-Family has been designated as an evidence-based program by SAMHSA. \n***Registration Required*** \nClick Below: \nFamily-to-Family
URL:https://namimercer.org/event/family-to-family/2018-10-25/
END:VEVENT
END:VCALENDAR