BEGIN:VCALENDAR
VERSION:2.0
PRODID:-//NAMI Mercer County - ECPv6.15.20//NONSGML v1.0//EN
CALSCALE:GREGORIAN
METHOD:PUBLISH
X-ORIGINAL-URL:https://namimercer.org
X-WR-CALDESC:Events for NAMI Mercer County
REFRESH-INTERVAL;VALUE=DURATION:PT1H
X-Robots-Tag:noindex
X-PUBLISHED-TTL:PT1H
BEGIN:VTIMEZONE
TZID:America/New_York
BEGIN:DAYLIGHT
TZOFFSETFROM:-0500
TZOFFSETTO:-0400
TZNAME:EDT
DTSTART:20250309T070000
END:DAYLIGHT
BEGIN:STANDARD
TZOFFSETFROM:-0400
TZOFFSETTO:-0500
TZNAME:EST
DTSTART:20251102T060000
END:STANDARD
BEGIN:DAYLIGHT
TZOFFSETFROM:-0500
TZOFFSETTO:-0400
TZNAME:EDT
DTSTART:20260308T070000
END:DAYLIGHT
BEGIN:STANDARD
TZOFFSETFROM:-0400
TZOFFSETTO:-0500
TZNAME:EST
DTSTART:20261101T060000
END:STANDARD
BEGIN:DAYLIGHT
TZOFFSETFROM:-0500
TZOFFSETTO:-0400
TZNAME:EDT
DTSTART:20270314T070000
END:DAYLIGHT
BEGIN:STANDARD
TZOFFSETFROM:-0400
TZOFFSETTO:-0500
TZNAME:EST
DTSTART:20271107T060000
END:STANDARD
END:VTIMEZONE
BEGIN:VEVENT
DTSTART;TZID=America/New_York:20260506T140000
DTEND;TZID=America/New_York:20260506T153000
DTSTAMP:20260424T190019
CREATED:20230201T162407Z
LAST-MODIFIED:20240305T215502Z
UID:10000638-1778076000-1778081400@namimercer.org
SUMMARY:NAMI Connection Support Group
DESCRIPTION:Recovery support group for adults living with mental illness. The group can meet virtually via Ring Central or in person at the NAMI Mercer Center on the 1st and 3rd Wednesdays at 2pm. The group will also meet only virtually on the 2nd and 4th Thursday at 7pm.
URL:https://namimercer.org/event/nami-connection-support-group/2026-05-06/
LOCATION:Virtual via Ring Central
END:VEVENT
BEGIN:VEVENT
DTSTART;TZID=America/New_York:20260506T150000
DTEND;TZID=America/New_York:20260506T160000
DTSTAMP:20260424T190019
CREATED:20230201T161010Z
LAST-MODIFIED:20230201T161010Z
UID:10000466-1778079600-1778083200@namimercer.org
SUMMARY:Just Friends Support Group
DESCRIPTION:Social Support Group for adults with scheduled fun activities. Meet and Greet\, 1st Wednesdays\, 3-4pm. NAMI Membership is required.
URL:https://namimercer.org/event/just-friends-support-group/2026-05-06/
LOCATION:NAMI Mercer Center\, 1235 Whitehorse Mercerville Rd. Bldg. C\, Suite 303\, Hamilton\, NJ\, 08619\, United States
GEO:40.2096194;-74.6911954
X-APPLE-STRUCTURED-LOCATION;VALUE=URI;X-ADDRESS=NAMI Mercer Center 1235 Whitehorse Mercerville Rd. Bldg. C Suite 303 Hamilton NJ 08619 United States;X-APPLE-RADIUS=500;X-TITLE=1235 Whitehorse Mercerville Rd. Bldg. C\, Suite 303:geo:-74.6911954,40.2096194
END:VEVENT
END:VCALENDAR